BEGIN:VCALENDAR
VERSION:2.0
PRODID:-//ChamberMaster//Event Calendar 2.0//EN
METHOD:PUBLISH
X-PUBLISHED-TTL:P1H
REFRESH-INTERVAL:P1H
CALSCALE:GREGORIAN
BEGIN:VTIMEZONE
TZID:America/Toronto
BEGIN:DAYLIGHT
RRULE:FREQ=YEARLY;BYMONTH=3;BYDAY=2SU
DTSTART:20070101T000000
TZOFFSETFROM:-0500
TZOFFSETTO:-0400
TZNAME:Eastern Daylight Time
END:DAYLIGHT
BEGIN:STANDARD
RRULE:FREQ=YEARLY;BYMONTH=11;BYDAY=1SU
DTSTART:20070101T000000
TZOFFSETFROM:-0400
TZOFFSETTO:-0500
TZNAME:Eastern Standard Time
END:STANDARD
END:VTIMEZONE
BEGIN:VEVENT
DTSTART;TZID=America/Toronto:20260512T120000
DTEND;TZID=America/Toronto:20260512T133000
X-MICROSOFT-CDO-ALLDAYEVENT:FALSE
SUMMARY:Mental Health Month: Lunch & Learn Panel
DESCRIPTION:Mental Health Month: Lunch & Learn Panel   Workplace Mental HealthJoin us this Mental Health Month for an engaging Lunch & Learn focused on workplace mental health. This panel discussion will bring together professionals to explore both employer and employee perspectives\, creating a well-rounded conversation around support\, responsibility\, and practical solutions.Together\, we'll discuss how to foster healthier work environments\, recognize challenges\, and implement meaningful strategies that support mental well-being in the workplace.📅 May 12\, 2026\n🕛 12:00   1:30 PM\n📍 Huron Oaks Golf CourseWhether you're an employer\, team leader\, or employee\, this session offers valuable insights\, open dialogue\, and actionable takeaways you can bring back to your organization.
X-ALT-DESC;FMTTYPE=text/html:<!DOCTYPE html><html><head><title></title></head><body aria-disabled="false"><p data-end="126" data-start="56"><strong data-end="126" data-start="56" fr-original-style="" style="font-weight: 700\;">Mental Health Month: Lunch &amp\; Learn Panel &ndash\; Workplace Mental Health</strong></p><p data-end="428" data-start="128">Join us this Mental Health Month for an engaging Lunch &amp\; Learn focused on workplace mental health. This panel discussion will bring together professionals to explore both employer and employee perspectives\, creating a well-rounded conversation around support\, responsibility\, and practical solutions.</p><p data-end="603" data-start="430">Together\, we&rsquo\;ll discuss how to foster healthier work environments\, recognize challenges\, and implement meaningful strategies that support mental well-being in the workplace.</p><p data-end="681" data-start="605">📅 <strong data-end="624" data-start="608" fr-original-style="" style="font-weight: 700\;">May 12\, 2026</strong><br data-start="624" data-end="627">🕛 <strong data-end="649" data-start="630" fr-original-style="" style="font-weight: 700\;">12:00 &ndash\; 1:30 PM</strong><br data-start="649" data-end="652">📍 <strong data-end="681" data-start="655" fr-original-style="" style="font-weight: 700\;">Huron Oaks Golf Course</strong></p><p data-end="856" data-start="683">Whether you&rsquo\;re an employer\, team leader\, or employee\, this session offers valuable insights\, open dialogue\, and actionable takeaways you can bring back to your organization.</p></body></html>
LOCATION:2587 Lakeshore Rd. Bright's Grove ON N0N 1CO
UID:e.2562.1445594
SEQUENCE:3
DTSTAMP:20260419T165659Z
URL:https://members.slchamber.ca/communityevents/Details/mental-health-month-lunch-learn-panel-1712210?sourceTypeId=Hub
END:VEVENT
END:VCALENDAR
